BEGIN:VCALENDAR
VERSION:2.0
PRODID:-//HTL Oberösterreich - ECPv6.0.2//NONSGML v1.0//EN
CALSCALE:GREGORIAN
METHOD:PUBLISH
X-ORIGINAL-URL:https://www.htl-ooe.at
X-WR-CALDESC:Events for HTL Oberösterreich
REFRESH-INTERVAL;VALUE=DURATION:PT1H
X-Robots-Tag:noindex
X-PUBLISHED-TTL:PT1H
BEGIN:VTIMEZONE
TZID:Europe/Vienna
BEGIN:DAYLIGHT
TZOFFSETFROM:+0100
TZOFFSETTO:+0200
TZNAME:CEST
DTSTART:20260329T010000
END:DAYLIGHT
BEGIN:STANDARD
TZOFFSETFROM:+0200
TZOFFSETTO:+0100
TZNAME:CET
DTSTART:20261025T010000
END:STANDARD
END:VTIMEZONE
BEGIN:VEVENT
DTSTART;TZID=Europe/Vienna:20260312T000000
DTEND;TZID=Europe/Vienna:20260312T235959
DTSTAMP:20260425T143732
CREATED:20251007T173932Z
LAST-MODIFIED:20251007T174046Z
UID:3049-1773273600-1773359999@www.htl-ooe.at
SUMMARY:Karriere- und Innovationstag HTL2 Linz LITEC
DESCRIPTION:https://www.litec.ac.at
URL:https://www.htl-ooe.at/veranstaltungen/karriere-und-innovationstag-htl2-linz-litec/
CATEGORIES:Alle Veranstaltungen,Informationsveranstaltung
ATTACH;FMTTYPE=image/png:https://www.htl-ooe.at/wp-content/uploads/2022/08/logo_linz_litec.png
END:VEVENT
END:VCALENDAR