BEGIN:VCALENDAR
VERSION:2.0
PRODID:-//HTL Oberösterreich - ECPv6.0.2//NONSGML v1.0//EN
CALSCALE:GREGORIAN
METHOD:PUBLISH
X-ORIGINAL-URL:https://www.htl-ooe.at
X-WR-CALDESC:Events for HTL Oberösterreich
REFRESH-INTERVAL;VALUE=DURATION:PT1H
X-Robots-Tag:noindex
X-PUBLISHED-TTL:PT1H
BEGIN:VTIMEZONE
TZID:Europe/Vienna
BEGIN:DAYLIGHT
TZOFFSETFROM:+0100
TZOFFSETTO:+0200
TZNAME:CEST
DTSTART:20250330T010000
END:DAYLIGHT
BEGIN:STANDARD
TZOFFSETFROM:+0200
TZOFFSETTO:+0100
TZNAME:CET
DTSTART:20251026T010000
END:STANDARD
END:VTIMEZONE
BEGIN:VEVENT
DTSTART;TZID=Europe/Vienna:20251205T000000
DTEND;TZID=Europe/Vienna:20251205T235959
DTSTAMP:20260425T184954
CREATED:20240910T065255Z
LAST-MODIFIED:20250912T105230Z
UID:2850-1764892800-1764979199@www.htl-ooe.at
SUMMARY:Tag der offenen Tür HTL Braunau
DESCRIPTION:https://www.htl-braunau.at/live
URL:https://www.htl-ooe.at/veranstaltungen/tag-der-offenen-tuer-htl-braunau/
CATEGORIES:Alle Veranstaltungen,Tage der offenen Tür
ATTACH;FMTTYPE=image/png:https://www.htl-ooe.at/wp-content/uploads/2022/08/logo_braunau.png
END:VEVENT
BEGIN:VEVENT
DTSTART;TZID=Europe/Vienna:20251216T000000
DTEND;TZID=Europe/Vienna:20251216T235959
DTSTAMP:20260425T184954
CREATED:20250912T103932Z
LAST-MODIFIED:20250912T104317Z
UID:3020-1765843200-1765929599@www.htl-ooe.at
SUMMARY:Allgemeiner Schnuppertag HTL Perg
DESCRIPTION:http://www.htl-perg.ac.at
URL:https://www.htl-ooe.at/veranstaltungen/allgemeiner-schnuppertag-htl-perg/
CATEGORIES:Alle Veranstaltungen,Informationsveranstaltung
ATTACH;FMTTYPE=image/jpeg:https://www.htl-ooe.at/wp-content/uploads/2022/08/logo_perg.jpeg
END:VEVENT
END:VCALENDAR