BEGIN:VCALENDAR
VERSION:2.0
PRODID:-//HTL Oberösterreich - ECPv6.0.2//NONSGML v1.0//EN
CALSCALE:GREGORIAN
METHOD:PUBLISH
X-ORIGINAL-URL:https://www.htl-ooe.at
X-WR-CALDESC:Events for HTL Oberösterreich
REFRESH-INTERVAL;VALUE=DURATION:PT1H
X-Robots-Tag:noindex
X-PUBLISHED-TTL:PT1H
BEGIN:VTIMEZONE
TZID:Europe/Vienna
BEGIN:DAYLIGHT
TZOFFSETFROM:+0100
TZOFFSETTO:+0200
TZNAME:CEST
DTSTART:20250330T010000
END:DAYLIGHT
BEGIN:STANDARD
TZOFFSETFROM:+0200
TZOFFSETTO:+0100
TZNAME:CET
DTSTART:20251026T010000
END:STANDARD
END:VTIMEZONE
BEGIN:VEVENT
DTSTART;TZID=Europe/Vienna:20251107T000000
DTEND;TZID=Europe/Vienna:20251108T235959
DTSTAMP:20260425T200305
CREATED:20240910T074137Z
LAST-MODIFIED:20250912T105721Z
UID:2881-1762473600-1762646399@www.htl-ooe.at
SUMMARY:Tage der offenen Tür TFS Haslach
DESCRIPTION:https://www.tfs-haslach.at/
URL:https://www.htl-ooe.at/veranstaltungen/tage-der-offenen-tuer-tfs-haslach/
CATEGORIES:Alle Veranstaltungen,Tage der offenen Tür
ATTACH;FMTTYPE=image/jpeg:https://www.htl-ooe.at/wp-content/uploads/2022/08/logo_haslach.jpg
END:VEVENT
BEGIN:VEVENT
DTSTART;TZID=Europe/Vienna:20251114T000000
DTEND;TZID=Europe/Vienna:20251115T235959
DTSTAMP:20260425T200305
CREATED:20240909T075539Z
LAST-MODIFIED:20251008T113507Z
UID:2842-1763078400-1763251199@www.htl-ooe.at
SUMMARY:Open House - Infotage\, HTL1 Linz
DESCRIPTION:www.htl1.at
URL:https://www.htl-ooe.at/veranstaltungen/tage-der-offenen-tuer-htl1-linz/
CATEGORIES:Alle Veranstaltungen,Tage der offenen Tür
ATTACH;FMTTYPE=image/png:https://www.htl-ooe.at/wp-content/uploads/2022/08/logo_linz_htl1-1.png
END:VEVENT
BEGIN:VEVENT
DTSTART;TZID=Europe/Vienna:20251114T000000
DTEND;TZID=Europe/Vienna:20251114T235959
DTSTAMP:20260425T200305
CREATED:20240910T074440Z
LAST-MODIFIED:20250912T105520Z
UID:2883-1763078400-1763164799@www.htl-ooe.at
SUMMARY:Tag der offenen Tür HTL Traun
DESCRIPTION:https://www.htltraun.at/
URL:https://www.htl-ooe.at/veranstaltungen/tag-der-offenen-tuer-htl-traun/
CATEGORIES:Alle Veranstaltungen,Tage der offenen Tür
ATTACH;FMTTYPE=image/png:https://www.htl-ooe.at/wp-content/uploads/2022/08/logo_traun.png
END:VEVENT
BEGIN:VEVENT
DTSTART;TZID=Europe/Vienna:20251121T000000
DTEND;TZID=Europe/Vienna:20251121T235959
DTSTAMP:20260425T200305
CREATED:20240910T071358Z
LAST-MODIFIED:20251112T120842Z
UID:2858-1763683200-1763769599@www.htl-ooe.at
SUMMARY:Tag der offenen Tür HTL Leonding
DESCRIPTION:https://www.htl-leonding.at/
URL:https://www.htl-ooe.at/veranstaltungen/tag-der-offenen-tuer-htl-leonding/
CATEGORIES:Alle Veranstaltungen,Tage der offenen Tür
ATTACH;FMTTYPE=image/png:https://www.htl-ooe.at/wp-content/uploads/2024/09/logo_htlleonding2.png
END:VEVENT
BEGIN:VEVENT
DTSTART;TZID=Europe/Vienna:20251127T000000
DTEND;TZID=Europe/Vienna:20251127T235959
DTSTAMP:20260425T200305
CREATED:20240910T064633Z
LAST-MODIFIED:20251112T121523Z
UID:2844-1764201600-1764287999@www.htl-ooe.at
SUMMARY:Firmeninformationstag HTL Leonding
DESCRIPTION:https://www.htl-leonding.at/
URL:https://www.htl-ooe.at/veranstaltungen/firmeninformationstag-htl-leonding/
CATEGORIES:Alle Veranstaltungen,Informationsveranstaltung
ATTACH;FMTTYPE=image/png:https://www.htl-ooe.at/wp-content/uploads/2024/09/logo_htlleonding2.png
END:VEVENT
BEGIN:VEVENT
DTSTART;TZID=Europe/Vienna:20251128T000000
DTEND;TZID=Europe/Vienna:20251129T235959
DTSTAMP:20260425T200305
CREATED:20240910T070848Z
LAST-MODIFIED:20250912T105354Z
UID:2854-1764288000-1764460799@www.htl-ooe.at
SUMMARY:Technik Tage HTL Braunau
DESCRIPTION:https://www.htl-braunau.at/live
URL:https://www.htl-ooe.at/veranstaltungen/technik-tage-htl-braunau/
CATEGORIES:Alle Veranstaltungen,Informationsveranstaltung
ATTACH;FMTTYPE=image/png:https://www.htl-ooe.at/wp-content/uploads/2022/08/logo_braunau.png
END:VEVENT
BEGIN:VEVENT
DTSTART;TZID=Europe/Vienna:20251128T000000
DTEND;TZID=Europe/Vienna:20251129T235959
DTSTAMP:20260425T200305
CREATED:20240910T071853Z
LAST-MODIFIED:20250917T161534Z
UID:2861-1764288000-1764460799@www.htl-ooe.at
SUMMARY:Tage der offenen Tür HTL Neufelden
DESCRIPTION:https://www.htl-neufelden.at/
URL:https://www.htl-ooe.at/veranstaltungen/tage-der-offenen-tuer-htl-neufelden/
CATEGORIES:Alle Veranstaltungen,Tage der offenen Tür
ATTACH;FMTTYPE=image/png:https://www.htl-ooe.at/wp-content/uploads/2022/08/logo_neufelden.png
END:VEVENT
BEGIN:VEVENT
DTSTART;TZID=Europe/Vienna:20251128T000000
DTEND;TZID=Europe/Vienna:20251128T235959
DTSTAMP:20260425T200305
CREATED:20240910T081345Z
LAST-MODIFIED:20250912T104834Z
UID:2900-1764288000-1764374399@www.htl-ooe.at
SUMMARY:Tag der offenen Tür HTL Perg
DESCRIPTION:http://www.htl-perg.ac.at
URL:https://www.htl-ooe.at/veranstaltungen/tage-der-offenen-tuer-htl-perg/
CATEGORIES:Alle Veranstaltungen,Tage der offenen Tür
ATTACH;FMTTYPE=image/jpeg:https://www.htl-ooe.at/wp-content/uploads/2022/08/logo_perg.jpeg
END:VEVENT
END:VCALENDAR