BEGIN:VCALENDAR
VERSION:2.0
PRODID:-//HTL Oberösterreich - ECPv6.0.2//NONSGML v1.0//EN
CALSCALE:GREGORIAN
METHOD:PUBLISH
X-ORIGINAL-URL:https://www.htl-ooe.at
X-WR-CALDESC:Events for HTL Oberösterreich
REFRESH-INTERVAL;VALUE=DURATION:PT1H
X-Robots-Tag:noindex
X-PUBLISHED-TTL:PT1H
BEGIN:VTIMEZONE
TZID:Europe/Vienna
BEGIN:DAYLIGHT
TZOFFSETFROM:+0100
TZOFFSETTO:+0200
TZNAME:CEST
DTSTART:20250330T010000
END:DAYLIGHT
BEGIN:STANDARD
TZOFFSETFROM:+0200
TZOFFSETTO:+0100
TZNAME:CET
DTSTART:20251026T010000
END:STANDARD
END:VTIMEZONE
BEGIN:VEVENT
DTSTART;TZID=Europe/Vienna:20250917T000000
DTEND;TZID=Europe/Vienna:20250919T235959
DTSTAMP:20260425T223733
CREATED:20240828T085948Z
LAST-MODIFIED:20250907T082030Z
UID:2834-1758067200-1758326399@www.htl-ooe.at
SUMMARY:Studien Info Messe - SIM Linz
DESCRIPTION:www.jku.at/veranstaltungsmanagement/sim
URL:https://www.htl-ooe.at/veranstaltungen/studien-info-messe-sim-linz/
CATEGORIES:Alle Veranstaltungen,Berufsinformationsmessen
ATTACH;FMTTYPE=image/png:https://www.htl-ooe.at/wp-content/uploads/2022/08/jku.png
END:VEVENT
BEGIN:VEVENT
DTSTART;TZID=Europe/Vienna:20250919T000000
DTEND;TZID=Europe/Vienna:20250919T235959
DTSTAMP:20260425T223733
CREATED:20250911T090629Z
LAST-MODIFIED:20250912T105508Z
UID:3006-1758240000-1758326399@www.htl-ooe.at
SUMMARY:Firmenpräsentationstag der HTL Traun
DESCRIPTION:https://www.htltraun.at/
URL:https://www.htl-ooe.at/veranstaltungen/firmenpraesentationstag-der-htl-traun/
CATEGORIES:Alle Veranstaltungen,Informationsveranstaltung
ATTACH;FMTTYPE=image/png:https://www.htl-ooe.at/wp-content/uploads/2022/08/logo_traun.png
END:VEVENT
BEGIN:VEVENT
DTSTART;TZID=Europe/Vienna:20250930T000000
DTEND;TZID=Europe/Vienna:20250930T235959
DTSTAMP:20260425T223733
CREATED:20250912T104742Z
LAST-MODIFIED:20250912T104743Z
UID:3027-1759190400-1759276799@www.htl-ooe.at
SUMMARY:Firmeninformationstag (FIT) HTL Perg
DESCRIPTION:http://www.htl-perg.ac.at
URL:https://www.htl-ooe.at/veranstaltungen/firmeninformationstag-fit-htl-perg/
CATEGORIES:Alle Veranstaltungen,Informationsveranstaltung
ATTACH;FMTTYPE=image/jpeg:https://www.htl-ooe.at/wp-content/uploads/2022/08/logo_perg.jpeg
END:VEVENT
END:VCALENDAR