BEGIN:VCALENDAR
VERSION:2.0
PRODID:-//HTL Oberösterreich - ECPv6.0.2//NONSGML v1.0//EN
CALSCALE:GREGORIAN
METHOD:PUBLISH
X-ORIGINAL-URL:https://www.htl-ooe.at
X-WR-CALDESC:Events for HTL Oberösterreich
REFRESH-INTERVAL;VALUE=DURATION:PT1H
X-Robots-Tag:noindex
X-PUBLISHED-TTL:PT1H
BEGIN:VTIMEZONE
TZID:Europe/Vienna
BEGIN:DAYLIGHT
TZOFFSETFROM:+0100
TZOFFSETTO:+0200
TZNAME:CEST
DTSTART:20250330T010000
END:DAYLIGHT
BEGIN:STANDARD
TZOFFSETFROM:+0200
TZOFFSETTO:+0100
TZNAME:CET
DTSTART:20251026T010000
END:STANDARD
END:VTIMEZONE
BEGIN:VEVENT
DTSTART;TZID=Europe/Vienna:20251114T000000
DTEND;TZID=Europe/Vienna:20251115T235959
DTSTAMP:20260425T211731
CREATED:20240909T075539Z
LAST-MODIFIED:20251008T113507Z
UID:2842-1763078400-1763251199@www.htl-ooe.at
SUMMARY:Open House - Infotage\, HTL1 Linz
DESCRIPTION:www.htl1.at
URL:https://www.htl-ooe.at/veranstaltungen/tage-der-offenen-tuer-htl1-linz/
CATEGORIES:Alle Veranstaltungen,Tage der offenen Tür
ATTACH;FMTTYPE=image/png:https://www.htl-ooe.at/wp-content/uploads/2022/08/logo_linz_htl1-1.png
END:VEVENT
BEGIN:VEVENT
DTSTART;TZID=Europe/Vienna:20251114T000000
DTEND;TZID=Europe/Vienna:20251114T235959
DTSTAMP:20260425T211731
CREATED:20240910T074440Z
LAST-MODIFIED:20250912T105520Z
UID:2883-1763078400-1763164799@www.htl-ooe.at
SUMMARY:Tag der offenen Tür HTL Traun
DESCRIPTION:https://www.htltraun.at/
URL:https://www.htl-ooe.at/veranstaltungen/tag-der-offenen-tuer-htl-traun/
CATEGORIES:Alle Veranstaltungen,Tage der offenen Tür
ATTACH;FMTTYPE=image/png:https://www.htl-ooe.at/wp-content/uploads/2022/08/logo_traun.png
END:VEVENT
END:VCALENDAR